BEGIN:VCALENDAR
VERSION:2.0
PRODID:-//Literacy Merritt &amp; Nicola Valley - ECPv6.8.3//NONSGML v1.0//EN
CALSCALE:GREGORIAN
METHOD:PUBLISH
X-WR-CALNAME:Literacy Merritt &amp; Nicola Valley
X-ORIGINAL-URL:https://literacymerritt.com
X-WR-CALDESC:Events for Literacy Merritt &amp; Nicola Valley
REFRESH-INTERVAL;VALUE=DURATION:PT1H
X-Robots-Tag:noindex
X-PUBLISHED-TTL:PT1H
BEGIN:VTIMEZONE
TZID:America/Vancouver
BEGIN:DAYLIGHT
TZOFFSETFROM:-0800
TZOFFSETTO:-0700
TZNAME:PDT
DTSTART:20220313T100000
END:DAYLIGHT
BEGIN:STANDARD
TZOFFSETFROM:-0700
TZOFFSETTO:-0800
TZNAME:PST
DTSTART:20221106T090000
END:STANDARD
BEGIN:DAYLIGHT
TZOFFSETFROM:-0800
TZOFFSETTO:-0700
TZNAME:PDT
DTSTART:20230312T100000
END:DAYLIGHT
BEGIN:STANDARD
TZOFFSETFROM:-0700
TZOFFSETTO:-0800
TZNAME:PST
DTSTART:20231105T090000
END:STANDARD
END:VTIMEZONE
BEGIN:VEVENT
DTSTART;TZID=America/Vancouver:20230116T153000
DTEND;TZID=America/Vancouver:20230116T161500
DTSTAMP:20260424T211500
CREATED:20221108T173046Z
LAST-MODIFIED:20230109T221641Z
UID:6274-1673883000-1673885700@literacymerritt.com
SUMMARY:Active Stories - Ages 4 to 6
DESCRIPTION:Active Stories is a FREE Physical Literacy Program for children ages 4 to 6. Each session is centered around a children’s story book followed by physical activities based on the storyline. The activities encourage the development of movement skills\, improvisation\, creativity\, and early literacy skills. \nDrop-in sessions begin November 7th\, running after school from 3:30 to 4:15 Mondays\, following the 2022-23 school calendar. Sessions will be held in Room 2/3 at the Merritt Civic Centre. \nFor more information\, email literacymerritt@gmail.com.
URL:https://literacymerritt.com/event/active-stories-3-2-2-2-2-2/
LOCATION:Merritt Civic Centre\, 1950 Mamette Ave\, Merritt\, British Columbia\, V1K 1R6\, Canada
CATEGORIES:Active Stories
ATTACH;FMTTYPE=image/png:https://literacymerritt.com/wp-content/uploads/2017/08/literacy_merritt_logo.png
ORGANIZER;CN="Literacy Merritt":MAILTO:literacymerritt@gmail.com
END:VEVENT
BEGIN:VEVENT
DTSTART;TZID=America/Vancouver:20230114T190000
DTEND;TZID=America/Vancouver:20230114T220000
DTSTAMP:20260424T211500
CREATED:20230104T221504Z
LAST-MODIFIED:20230104T221648Z
UID:6336-1673722800-1673733600@literacymerritt.com
SUMMARY:Merritt Centennials Home Game
DESCRIPTION:Merritt Centennials Home Game – 7PM – Nicola Valley Memorial Arena – Regular Admission \nSponsored by Interior Savings and Literacy Merritt & Nicola Valley. Bring a new or gently used book to donate to the Interior Savings Unplug & Play book-drive for the Bright Red Bookshelves. Join in the intermission fun & enter to win a family literacy gift basket. Pick up your Family Literacy Week schedule.
URL:https://literacymerritt.com/event/active-stories-3-2-2-2-2-2-2-2-2-2-2-2-2-2-2-2-2-2-2-2-2/
LOCATION:Merritt Civic Centre\, 1950 Mamette Ave\, Merritt\, British Columbia\, V1K 1R6\, Canada
CATEGORIES:Active Stories
ATTACH;FMTTYPE=image/png:https://literacymerritt.com/wp-content/uploads/2017/08/literacy_merritt_logo.png
ORGANIZER;CN="Literacy Merritt":MAILTO:literacymerritt@gmail.com
END:VEVENT
BEGIN:VEVENT
DTSTART;TZID=America/Vancouver:20230109T153000
DTEND;TZID=America/Vancouver:20230109T161500
DTSTAMP:20260424T211500
CREATED:20221108T173010Z
LAST-MODIFIED:20230109T221426Z
UID:6272-1673278200-1673280900@literacymerritt.com
SUMMARY:Active Stories - Ages 4 to 6
DESCRIPTION:Active Stories is a FREE Physical Literacy Program for children ages 4 to 6. Each session is centered around a children’s story book followed by physical activities based on the storyline. The activities encourage the development of movement skills\, improvisation\, creativity\, and early literacy skills. \nDrop-in sessions begin November 7th\, running after school from 3:30 to 4:15 Mondays\, following the 2022-23 school calendar. Sessions will be held in Room 2/3 at the Merritt Civic Centre. \nFor more information\, email literacymerritt@gmail.com.
URL:https://literacymerritt.com/event/active-stories-3-2-2-2-2/
LOCATION:Merritt Civic Centre\, 1950 Mamette Ave\, Merritt\, British Columbia\, V1K 1R6\, Canada
CATEGORIES:Active Stories
ATTACH;FMTTYPE=image/png:https://literacymerritt.com/wp-content/uploads/2017/08/literacy_merritt_logo.png
ORGANIZER;CN="Literacy Merritt":MAILTO:literacymerritt@gmail.com
END:VEVENT
BEGIN:VEVENT
DTSTART;TZID=America/Vancouver:20221212T153000
DTEND;TZID=America/Vancouver:20221212T161500
DTSTAMP:20260424T211500
CREATED:20221108T172949Z
LAST-MODIFIED:20221229T142632Z
UID:6270-1670859000-1670861700@literacymerritt.com
SUMMARY:Active Stories - Ages 4 to 6
DESCRIPTION:Active Stories is a FREE Physical Literacy Program for children ages 4 to 6. Each session is centered around a children’s story book followed by physical activities based on the storyline. The activities encourage the development of movement skills\, improvisation\, creativity\, and early literacy skills. \nDrop-in sessions begin November 7th\, running after school from 3:30 to 4:15 Mondays\, following the 2022-23 school calendar. Sessions will be held in Room 2/3 at the Merritt Civic Centre. \nFor more information\, email literacymerritt@gmail.com.
URL:https://literacymerritt.com/event/active-stories-3-2-2-2/
LOCATION:Merritt Civic Centre\, 1950 Mamette Ave\, Merritt\, British Columbia\, V1K 1R6\, Canada
CATEGORIES:Active Stories
ATTACH;FMTTYPE=image/jpeg:https://literacymerritt.com/wp-content/uploads/2022/09/00005.jpg
ORGANIZER;CN="Literacy Merritt":MAILTO:literacymerritt@gmail.com
END:VEVENT
BEGIN:VEVENT
DTSTART;TZID=America/Vancouver:20221205T153000
DTEND;TZID=America/Vancouver:20221205T161500
DTSTAMP:20260424T211500
CREATED:20221108T172924Z
LAST-MODIFIED:20221229T142447Z
UID:6268-1670254200-1670256900@literacymerritt.com
SUMMARY:Active Stories - Ages 4 to 6
DESCRIPTION:Active Stories is a FREE Physical Literacy Program for children ages 4 to 6. Each session is centered around a children’s story book followed by physical activities based on the storyline. The activities encourage the development of movement skills\, improvisation\, creativity\, and early literacy skills. \nDrop-in sessions begin November 7th\, running after school from 3:30 to 4:15 Mondays\, following the 2022-23 school calendar. Sessions will be held in Room 2/3 at the Merritt Civic Centre. \nFor more information\, email literacymerritt@gmail.com.
URL:https://literacymerritt.com/event/active-stories-3-2-2/
LOCATION:Merritt Civic Centre\, 1950 Mamette Ave\, Merritt\, British Columbia\, V1K 1R6\, Canada
CATEGORIES:Active Stories
ATTACH;FMTTYPE=image/jpeg:https://literacymerritt.com/wp-content/uploads/2022/09/00005.jpg
ORGANIZER;CN="Literacy Merritt":MAILTO:literacymerritt@gmail.com
END:VEVENT
BEGIN:VEVENT
DTSTART;TZID=America/Vancouver:20221128T153000
DTEND;TZID=America/Vancouver:20221128T161500
DTSTAMP:20260424T211500
CREATED:20221107T195344Z
LAST-MODIFIED:20221229T142351Z
UID:6266-1669649400-1669652100@literacymerritt.com
SUMMARY:Active Stories - Ages 4 to 6
DESCRIPTION:Active Stories is a FREE Physical Literacy Program for children ages 4 to 6. Each session is centered around a children’s story book followed by physical activities based on the storyline. The activities encourage the development of movement skills\, improvisation\, creativity\, and early literacy skills. \nDrop-in sessions begin November 7th\, running after school from 3:30 to 4:15 Mondays\, following the 2022-23 school calendar. Sessions will be held in Room 2/3 at the Merritt Civic Centre. \nFor more information\, email literacymerritt@gmail.com.
URL:https://literacymerritt.com/event/active-stories-3-2/
LOCATION:Merritt Civic Centre\, 1950 Mamette Ave\, Merritt\, British Columbia\, V1K 1R6\, Canada
CATEGORIES:Active Stories
ATTACH;FMTTYPE=image/jpeg:https://literacymerritt.com/wp-content/uploads/2022/09/00005.jpg
ORGANIZER;CN="Literacy Merritt":MAILTO:literacymerritt@gmail.com
END:VEVENT
BEGIN:VEVENT
DTSTART;TZID=America/Vancouver:20221121T153000
DTEND;TZID=America/Vancouver:20221121T161500
DTSTAMP:20260424T211500
CREATED:20221107T195137Z
LAST-MODIFIED:20221229T142258Z
UID:6264-1669044600-1669047300@literacymerritt.com
SUMMARY:Active Stories - Ages 4 to 6
DESCRIPTION:Active Stories is a FREE Physical Literacy Program for children ages 4 to 6. Each session is centered around a children’s story book followed by physical activities based on the storyline. The activities encourage the development of movement skills\, improvisation\, creativity\, and early literacy skills. \nDrop-in sessions begin November 7th\, running after school from 3:30 to 4:15 Mondays\, following the 2022-23 school calendar. Sessions will be held in Room 2/3 at the Merritt Civic Centre. \nFor more information\, email literacymerritt@gmail.com.
URL:https://literacymerritt.com/event/active-stories-3/
LOCATION:Merritt Civic Centre\, 1950 Mamette Ave\, Merritt\, British Columbia\, V1K 1R6\, Canada
CATEGORIES:Active Stories
ATTACH;FMTTYPE=image/jpeg:https://literacymerritt.com/wp-content/uploads/2022/09/00005.jpg
ORGANIZER;CN="Literacy Merritt":MAILTO:literacymerritt@gmail.com
END:VEVENT
BEGIN:VEVENT
DTSTART;TZID=America/Vancouver:20221114T153000
DTEND;TZID=America/Vancouver:20221114T163000
DTSTAMP:20260424T211500
CREATED:20221107T193856Z
LAST-MODIFIED:20221107T195007Z
UID:6253-1668439800-1668443400@literacymerritt.com
SUMMARY:Active Stories - Ages 4 to 6
DESCRIPTION:Active Stories is a FREE Physical Literacy Program for children ages 4 to 6. Each session is centered around a children’s story book followed by physical activities based on the storyline. The activities encourage the development of movement skills\, improvisation\, creativity\, and early literacy skills. \nDrop-in sessions begin November 7th\, running after school from 3:30 to 4:15 Mondays\, following the 2022-23 school calendar. Sessions will be held in Room 2/3 at the Merritt Civic Centre. \nFor more information\, email literacymerritt@gmail.com.
URL:https://literacymerritt.com/event/active-stories/
LOCATION:Merritt Civic Centre\, 1950 Mamette Ave\, Merritt\, British Columbia\, V1K 1R6\, Canada
CATEGORIES:Active Stories
ATTACH;FMTTYPE=image/jpeg:https://literacymerritt.com/wp-content/uploads/2022/09/00005.jpg
ORGANIZER;CN="Literacy Merritt":MAILTO:literacymerritt@gmail.com
END:VEVENT
BEGIN:VEVENT
DTSTART;TZID=America/Vancouver:20221107T153000
DTEND;TZID=America/Vancouver:20221107T163000
DTSTAMP:20260424T211500
CREATED:20221107T195053Z
LAST-MODIFIED:20221107T195053Z
UID:6262-1667835000-1667838600@literacymerritt.com
SUMMARY:Active Stories - Ages 4 to 6
DESCRIPTION:Active Stories is a FREE Physical Literacy Program for children ages 4 to 6. Each session is centered around a children’s story book followed by physical activities based on the storyline. The activities encourage the development of movement skills\, improvisation\, creativity\, and early literacy skills. \nDrop-in sessions begin November 7th\, running after school from 3:30 to 4:15 Mondays\, following the 2022-23 school calendar. Sessions will be held in Room 2/3 at the Merritt Civic Centre. \nFor more information\, email literacymerritt@gmail.com.
URL:https://literacymerritt.com/event/active-stories-2/
LOCATION:Merritt Civic Centre\, 1950 Mamette Ave\, Merritt\, British Columbia\, V1K 1R6\, Canada
CATEGORIES:Active Stories
ATTACH;FMTTYPE=image/jpeg:https://literacymerritt.com/wp-content/uploads/2022/09/00005.jpg
ORGANIZER;CN="Literacy Merritt":MAILTO:literacymerritt@gmail.com
END:VEVENT
END:VCALENDAR