BEGIN:VCALENDAR
VERSION:2.0
PRODID:-//Literacy Merritt &amp; Nicola Valley - ECPv6.8.3//NONSGML v1.0//EN
CALSCALE:GREGORIAN
METHOD:PUBLISH
X-ORIGINAL-URL:https://literacymerritt.com
X-WR-CALDESC:Events for Literacy Merritt &amp; Nicola Valley
REFRESH-INTERVAL;VALUE=DURATION:PT1H
X-Robots-Tag:noindex
X-PUBLISHED-TTL:PT1H
BEGIN:VTIMEZONE
TZID:America/Vancouver
BEGIN:DAYLIGHT
TZOFFSETFROM:-0800
TZOFFSETTO:-0700
TZNAME:PDT
DTSTART:20260308T100000
END:DAYLIGHT
BEGIN:STANDARD
TZOFFSETFROM:-0700
TZOFFSETTO:-0800
TZNAME:PST
DTSTART:20261101T090000
END:STANDARD
END:VTIMEZONE
BEGIN:VEVENT
DTSTART;TZID=America/Vancouver:20260127T160000
DTEND;TZID=America/Vancouver:20260127T180000
DTSTAMP:20260425T202249
CREATED:20260119T183512Z
LAST-MODIFIED:20260119T183512Z
UID:7282-1769529600-1769536800@literacymerritt.com
SUMMARY:Family Dinner and Recipe Exchange
DESCRIPTION:Family Dinner and Recipe Exchange hosted by the YMCA BC\, Merritt; 4 pm to 6 pm\, Crossroads Church East Entrance (2990 Voght Street) \nmelissa.cummings@bc.ymca.ca to RSVP or recipe share
URL:https://literacymerritt.com/event/come-read-with-me-2-2-2-2-2-2-2-2-3-4-2-3-2-2-3/
LOCATION:British Columbia
CATEGORIES:Family Literacy Reading week
ATTACH;FMTTYPE=image/jpeg:https://literacymerritt.com/wp-content/uploads/2026/01/literacy-unplug-and-play-2026.jpg
ORGANIZER;CN="Literacy Merritt":MAILTO:literacymerritt@gmail.com
END:VEVENT
BEGIN:VEVENT
DTSTART;TZID=America/Vancouver:20260127T180000
DTEND;TZID=America/Vancouver:20260127T183000
DTSTAMP:20260425T202249
CREATED:20260119T174514Z
LAST-MODIFIED:20260119T175636Z
UID:7255-1769536800-1769538600@literacymerritt.com
SUMMARY:Come Read With Me (open community-wide session)
DESCRIPTION:Come Read With Me @ Merritt Public Library (open community-wide session)\, 6 pm
URL:https://literacymerritt.com/event/come-read-with-me-2-2-2-2-2-2-2-2-3-3/
LOCATION:British Columbia
CATEGORIES:Family Literacy Reading week
ATTACH;FMTTYPE=image/jpeg:https://literacymerritt.com/wp-content/uploads/2026/01/literacy-unplug-and-play-2026.jpg
ORGANIZER;CN="Literacy Merritt":MAILTO:literacymerritt@gmail.com
END:VEVENT
BEGIN:VEVENT
DTSTART;TZID=America/Vancouver:20260127T180000
DTEND;TZID=America/Vancouver:20260127T183000
DTSTAMP:20260425T202249
CREATED:20260119T174645Z
LAST-MODIFIED:20260119T175630Z
UID:7257-1769536800-1769538600@literacymerritt.com
SUMMARY:Jeff Bloom Books (author presentation)
DESCRIPTION:Jeff Bloom Books author presentation @ Merritt Public Library\, 6 pm
URL:https://literacymerritt.com/event/come-read-with-me-2-2-2-2-2-2-2-2-3-3-2/
LOCATION:British Columbia
CATEGORIES:Family Literacy Reading week
ATTACH;FMTTYPE=image/jpeg:https://literacymerritt.com/wp-content/uploads/2026/01/literacy-unplug-and-play-2026.jpg
ORGANIZER;CN="Literacy Merritt":MAILTO:literacymerritt@gmail.com
END:VEVENT
BEGIN:VEVENT
DTSTART;TZID=America/Vancouver:20260128T090000
DTEND;TZID=America/Vancouver:20260128T093000
DTSTAMP:20260425T202249
CREATED:20260119T174922Z
LAST-MODIFIED:20260119T175624Z
UID:7261-1769590800-1769592600@literacymerritt.com
SUMMARY:Come Read With Me (Merritt Central Elementary School  / KG & Grade 1 Families)
DESCRIPTION:Come Read With Me  |  9:00 am –  9:30 am   |  Merritt Central Elementary School \nCome Read With Me @ Merritt Central Elementary School (KG and Grade 1 families)\, 9 am \nLearn strategies to support your child’s reading at home. Take home a free resource package including a book\, word cards and fun literacy games.
URL:https://literacymerritt.com/event/come-read-with-me-2-2-2-2-2-2-2-2-3-4/
LOCATION:Merritt Central School\, 1501 Voght Street\, Merritt\, British Columbia\, V1K 1B2\, Canada
CATEGORIES:Family Literacy Reading week
ATTACH;FMTTYPE=image/jpeg:https://literacymerritt.com/wp-content/uploads/2026/01/literacy-unplug-and-play-2026.jpg
ORGANIZER;CN="Literacy Merritt":MAILTO:literacymerritt@gmail.com
END:VEVENT
BEGIN:VEVENT
DTSTART;TZID=America/Vancouver:20260128T100000
DTEND;TZID=America/Vancouver:20260128T103000
DTSTAMP:20260425T202249
CREATED:20260119T175556Z
LAST-MODIFIED:20260119T175618Z
UID:7265-1769594400-1769596200@literacymerritt.com
SUMMARY:Children’s Story Time (ages 0-5)
DESCRIPTION:Children’s Story Time (ages 0-5) @ Merritt Public Library\, 10 am to 10:30 am
URL:https://literacymerritt.com/event/come-read-with-me-2-2-2-2-2-2-2-2-3-4-2-2/
LOCATION:Merritt Library\, 1691 Garcia St\, Merritt\, British Columbia\, V1K 1B8\, Canada
CATEGORIES:Family Literacy Reading week
ATTACH;FMTTYPE=image/jpeg:https://literacymerritt.com/wp-content/uploads/2026/01/literacy-unplug-and-play-2026.jpg
ORGANIZER;CN="Literacy Merritt":MAILTO:literacymerritt@gmail.com
END:VEVENT
BEGIN:VEVENT
DTSTART;TZID=America/Vancouver:20260128T133000
DTEND;TZID=America/Vancouver:20260128T140000
DTSTAMP:20260425T202249
CREATED:20260119T175443Z
LAST-MODIFIED:20260119T175611Z
UID:7263-1769607000-1769608800@literacymerritt.com
SUMMARY:Come Read With Me (Collettville Elementary School / KG & Grade 1 Families)
DESCRIPTION:Come Read With Me  |  1:30 pm – 2:00 pm   |   Collettville Elementary School  \nCome Read With Me @ Collettville Elementary School (KG and Grade 1 families)\, 1:30 pm \nLearn strategies to support your child’s reading at home. Take home a free resource package including a book\, word cards and fun literacy games.
URL:https://literacymerritt.com/event/come-read-with-me-2-2-2-2-2-2-2-2-3-4-2/
LOCATION:British Columbia
CATEGORIES:Family Literacy Reading week
ATTACH;FMTTYPE=image/jpeg:https://literacymerritt.com/wp-content/uploads/2026/01/literacy-unplug-and-play-2026.jpg
ORGANIZER;CN="Literacy Merritt":MAILTO:literacymerritt@gmail.com
END:VEVENT
BEGIN:VEVENT
DTSTART;TZID=America/Vancouver:20260129T103000
DTEND;TZID=America/Vancouver:20260129T120000
DTSTAMP:20260425T202249
CREATED:20260119T175828Z
LAST-MODIFIED:20260119T175828Z
UID:7267-1769682600-1769688000@literacymerritt.com
SUMMARY:Coffee & Crosswords (all ages)
DESCRIPTION:Coffee & Crosswords (all ages) @ Merritt Public Library\, 10:30 am to noon
URL:https://literacymerritt.com/event/come-read-with-me-2-2-2-2-2-2-2-2-3-4-2-2-2/
LOCATION:Merritt Library\, 1691 Garcia St\, Merritt\, British Columbia\, V1K 1B8\, Canada
CATEGORIES:Family Literacy Reading week
ATTACH;FMTTYPE=image/jpeg:https://literacymerritt.com/wp-content/uploads/2026/01/literacy-unplug-and-play-2026.jpg
ORGANIZER;CN="Literacy Merritt":MAILTO:literacymerritt@gmail.com
END:VEVENT
BEGIN:VEVENT
DTSTART;TZID=America/Vancouver:20260129T110000
DTEND;TZID=America/Vancouver:20260129T120000
DTSTAMP:20260425T202249
CREATED:20260119T175956Z
LAST-MODIFIED:20260119T175956Z
UID:7269-1769684400-1769688000@literacymerritt.com
SUMMARY:Explore Art Literacy (ages 3-6\, a parent & child participation program)
DESCRIPTION:Explore Art Literacy (ages 3-6\, a parent & child participation program) @ Nicola Valley Community Arts Clubhouse\, 11 am to noon
URL:https://literacymerritt.com/event/come-read-with-me-2-2-2-2-2-2-2-2-3-4-2-2-2-2/
LOCATION:British Columbia
CATEGORIES:Family Literacy Reading week
ATTACH;FMTTYPE=image/jpeg:https://literacymerritt.com/wp-content/uploads/2026/01/literacy-unplug-and-play-2026.jpg
ORGANIZER;CN="Literacy Merritt":MAILTO:literacymerritt@gmail.com
END:VEVENT
BEGIN:VEVENT
DTSTART;TZID=America/Vancouver:20260129T132000
DTEND;TZID=America/Vancouver:20260129T141000
DTSTAMP:20260425T202249
CREATED:20260119T180338Z
LAST-MODIFIED:20260119T180338Z
UID:7271-1769692800-1769695800@literacymerritt.com
SUMMARY:Come Read With Me (Nicola-Canford Elementary School / KG & Grade 1 Families)
DESCRIPTION:Come Read With Me  |  1:20 pm – 2:10 pm   |   Nicola-Canford Elementary School \nCome Read With Me @ Nicola-Canford Elementary School (KG and Grade 1 families)\, 1:20 pm \nLearn strategies to support your child’s reading at home. Take home a free resource package including a book\, word cards and fun literacy games.
URL:https://literacymerritt.com/event/come-read-with-me-2-2-2-2-2-2-2-2-3-4-2-3/
LOCATION:British Columbia
CATEGORIES:Family Literacy Reading week
ATTACH;FMTTYPE=image/jpeg:https://literacymerritt.com/wp-content/uploads/2026/01/literacy-unplug-and-play-2026.jpg
ORGANIZER;CN="Literacy Merritt":MAILTO:literacymerritt@gmail.com
END:VEVENT
BEGIN:VEVENT
DTSTART;TZID=America/Vancouver:20260130T133000
DTEND;TZID=America/Vancouver:20260130T140000
DTSTAMP:20260425T202249
CREATED:20260119T180500Z
LAST-MODIFIED:20260119T180500Z
UID:7273-1769779800-1769781600@literacymerritt.com
SUMMARY:Come Read With Me (Merritt Bench Elementary School / KG & Grade 1 Families)
DESCRIPTION:Come Read With Me  |  1:30 pm – 2:00 pm   |   Merritt Bench Elementary School  \nCome Read With Me @ Merritt Bench Elementary School (KG and Grade 1 families)\, 1:30 pm \nLearn strategies to support your child’s reading at home. Take home a free resource package including a book\, word cards and fun literacy games.
URL:https://literacymerritt.com/event/come-read-with-me-2-2-2-2-2-2-2-2-3-4-2-3-2/
LOCATION:British Columbia
CATEGORIES:Family Literacy Reading week
ATTACH;FMTTYPE=image/jpeg:https://literacymerritt.com/wp-content/uploads/2026/01/literacy-unplug-and-play-2026.jpg
ORGANIZER;CN="Literacy Merritt":MAILTO:literacymerritt@gmail.com
END:VEVENT
BEGIN:VEVENT
DTSTART;TZID=America/Vancouver:20260130T173000
DTEND;TZID=America/Vancouver:20260130T193000
DTSTAMP:20260425T202249
CREATED:20260119T180736Z
LAST-MODIFIED:20260119T180736Z
UID:7275-1769794200-1769801400@literacymerritt.com
SUMMARY:Creative Playground and Children’s Dance Party
DESCRIPTION:Creative Playground and Children’s Dance Party @ Nicola Valley Institute of Technology gymnasium\, 5:30 pm to 7:30 pm \n\nFree to attend. Come dance\, play some games\, create some art\, enjoy some snacks\, and take home books to enjoy at home
URL:https://literacymerritt.com/event/come-read-with-me-2-2-2-2-2-2-2-2-3-4-2-3-2-2/
LOCATION:British Columbia
CATEGORIES:Family Literacy Reading week
ATTACH;FMTTYPE=image/jpeg:https://literacymerritt.com/wp-content/uploads/2026/01/literacy-unplug-and-play-2026.jpg
ORGANIZER;CN="Literacy Merritt":MAILTO:literacymerritt@gmail.com
END:VEVENT
END:VCALENDAR